BEGIN:VCALENDAR
VERSION:2.0
PRODID:-//Stadtmission Echandens - ECPv6.15.20//NONSGML v1.0//EN
CALSCALE:GREGORIAN
METHOD:PUBLISH
X-WR-CALNAME:Stadtmission Echandens
X-ORIGINAL-URL:https://www.stami-lausanne.ch
X-WR-CALDESC:Veranstaltungen für Stadtmission Echandens
REFRESH-INTERVAL;VALUE=DURATION:PT1H
X-Robots-Tag:noindex
X-PUBLISHED-TTL:PT1H
BEGIN:VTIMEZONE
TZID:Europe/Zurich
BEGIN:DAYLIGHT
TZOFFSETFROM:+0100
TZOFFSETTO:+0200
TZNAME:CEST
DTSTART:20240331T010000
END:DAYLIGHT
BEGIN:STANDARD
TZOFFSETFROM:+0200
TZOFFSETTO:+0100
TZNAME:CET
DTSTART:20241027T010000
END:STANDARD
BEGIN:DAYLIGHT
TZOFFSETFROM:+0100
TZOFFSETTO:+0200
TZNAME:CEST
DTSTART:20250330T010000
END:DAYLIGHT
BEGIN:STANDARD
TZOFFSETFROM:+0200
TZOFFSETTO:+0100
TZNAME:CET
DTSTART:20251026T010000
END:STANDARD
BEGIN:DAYLIGHT
TZOFFSETFROM:+0100
TZOFFSETTO:+0200
TZNAME:CEST
DTSTART:20260329T010000
END:DAYLIGHT
BEGIN:STANDARD
TZOFFSETFROM:+0200
TZOFFSETTO:+0100
TZNAME:CET
DTSTART:20261025T010000
END:STANDARD
END:VTIMEZONE
BEGIN:VEVENT
DTSTART;TZID=Europe/Zurich:20250803T092000
DTEND;TZID=Europe/Zurich:20250803T094000
DTSTAMP:20260423T091249
CREATED:20250609T074703Z
LAST-MODIFIED:20250609T074703Z
UID:4272-1754212800-1754214000@www.stami-lausanne.ch
SUMMARY:Gebet vor dem Gottesdienst
DESCRIPTION:
URL:https://www.stami-lausanne.ch/event/gebet-vor-dem-gottesdienst-91/
LOCATION:Echandens
END:VEVENT
BEGIN:VEVENT
DTSTART;TZID=Europe/Zurich:20250803T095000
DTEND;TZID=Europe/Zurich:20250803T120000
DTSTAMP:20260423T091249
CREATED:20250609T073935Z
LAST-MODIFIED:20250609T073935Z
UID:4256-1754214600-1754222400@www.stami-lausanne.ch
SUMMARY:Gottesdienst mit Volker & Monique Gass
DESCRIPTION:
URL:https://www.stami-lausanne.ch/event/gottesdienst-mit-volker-monique-gass-4/
LOCATION:Echandens
END:VEVENT
BEGIN:VEVENT
DTSTART;TZID=Europe/Zurich:20250806T120000
DTEND;TZID=Europe/Zurich:20250806T163000
DTSTAMP:20260423T091249
CREATED:20250609T075515Z
LAST-MODIFIED:20250609T075515Z
UID:4286-1754481600-1754497800@www.stami-lausanne.ch
SUMMARY:Mittagessen für Generation 55+
DESCRIPTION:
URL:https://www.stami-lausanne.ch/event/mittagessen-fuer-generation-55-2/
LOCATION:Echandens
END:VEVENT
BEGIN:VEVENT
DTSTART;TZID=Europe/Zurich:20250810T092000
DTEND;TZID=Europe/Zurich:20250810T094000
DTSTAMP:20260423T091249
CREATED:20250609T074728Z
LAST-MODIFIED:20250609T074728Z
UID:4274-1754817600-1754818800@www.stami-lausanne.ch
SUMMARY:Gebet vor dem Gottesdienst
DESCRIPTION:
URL:https://www.stami-lausanne.ch/event/gebet-vor-dem-gottesdienst-92/
LOCATION:Echandens
END:VEVENT
BEGIN:VEVENT
DTSTART;TZID=Europe/Zurich:20250810T095000
DTEND;TZID=Europe/Zurich:20250810T120000
DTSTAMP:20260423T091249
CREATED:20250609T074036Z
LAST-MODIFIED:20250609T074036Z
UID:4258-1754819400-1754827200@www.stami-lausanne.ch
SUMMARY:Gottesdienst mit René Bucheli
DESCRIPTION:
URL:https://www.stami-lausanne.ch/event/gottesdienst-mit-rene-bucheli/
LOCATION:Echandens
END:VEVENT
BEGIN:VEVENT
DTSTART;TZID=Europe/Zurich:20250817T092000
DTEND;TZID=Europe/Zurich:20250817T094000
DTSTAMP:20260423T091249
CREATED:20250609T074814Z
LAST-MODIFIED:20250609T074814Z
UID:4276-1755422400-1755423600@www.stami-lausanne.ch
SUMMARY:Gebet vor dem Gottesdienst
DESCRIPTION:
URL:https://www.stami-lausanne.ch/event/gebet-vor-dem-gottesdienst-93/
LOCATION:Echandens
END:VEVENT
BEGIN:VEVENT
DTSTART;TZID=Europe/Zurich:20250817T095000
DTEND;TZID=Europe/Zurich:20250817T120000
DTSTAMP:20260423T091249
CREATED:20250609T074300Z
LAST-MODIFIED:20250609T074300Z
UID:4262-1755424200-1755432000@www.stami-lausanne.ch
SUMMARY:Gottesdienst mit Volker & Monique Gass
DESCRIPTION:
URL:https://www.stami-lausanne.ch/event/gottesdienst-mit-volker-monique-gass-5/
LOCATION:Echandens
END:VEVENT
BEGIN:VEVENT
DTSTART;TZID=Europe/Zurich:20250820T140000
DTEND;TZID=Europe/Zurich:20250820T163000
DTSTAMP:20260423T091249
CREATED:20250609T075605Z
LAST-MODIFIED:20250609T075711Z
UID:4288-1755698400-1755707400@www.stami-lausanne.ch
SUMMARY:Bibelnachmittag für Generation 55+
DESCRIPTION:
URL:https://www.stami-lausanne.ch/event/bibelnachmittag-fuer-generation-55/
LOCATION:Echandens
END:VEVENT
BEGIN:VEVENT
DTSTART;TZID=Europe/Zurich:20250822T090000
DTEND;TZID=Europe/Zurich:20250822T100000
DTSTAMP:20260423T091249
CREATED:20250609T075912Z
LAST-MODIFIED:20250609T075912Z
UID:4290-1755853200-1755856800@www.stami-lausanne.ch
SUMMARY:Atempause für Frauen
DESCRIPTION:
URL:https://www.stami-lausanne.ch/event/atempause-fuer-frauen-18/
LOCATION:Echandens
END:VEVENT
BEGIN:VEVENT
DTSTART;TZID=Europe/Zurich:20250822T200000
DTEND;TZID=Europe/Zurich:20250822T213000
DTSTAMP:20260423T091249
CREATED:20250609T080037Z
LAST-MODIFIED:20250609T080037Z
UID:4292-1755892800-1755898200@www.stami-lausanne.ch
SUMMARY:Gemeinde - Gebetsabend
DESCRIPTION:
URL:https://www.stami-lausanne.ch/event/gemeinde-gebetsabend-62/
LOCATION:Echandens
END:VEVENT
BEGIN:VEVENT
DTSTART;TZID=Europe/Zurich:20250824T092000
DTEND;TZID=Europe/Zurich:20250824T094000
DTSTAMP:20260423T091249
CREATED:20250609T074847Z
LAST-MODIFIED:20250609T074847Z
UID:4278-1756027200-1756028400@www.stami-lausanne.ch
SUMMARY:Gebet vor dem Gottesdienst
DESCRIPTION:
URL:https://www.stami-lausanne.ch/event/gebet-vor-dem-gottesdienst-94/
LOCATION:Echandens
END:VEVENT
BEGIN:VEVENT
DTSTART;TZID=Europe/Zurich:20250824T095000
DTEND;TZID=Europe/Zurich:20250824T120000
DTSTAMP:20260423T091249
CREATED:20250609T074208Z
LAST-MODIFIED:20250609T074208Z
UID:4260-1756029000-1756036800@www.stami-lausanne.ch
SUMMARY:Gottesdienst mit Erich Hunziker
DESCRIPTION:
URL:https://www.stami-lausanne.ch/event/gottesdienst-mit-erich-hunziker-2/
LOCATION:Echandens
END:VEVENT
BEGIN:VEVENT
DTSTART;TZID=Europe/Zurich:20250829T200000
DTEND;TZID=Europe/Zurich:20250829T213000
DTSTAMP:20260423T091249
CREATED:20250609T080103Z
LAST-MODIFIED:20250609T080140Z
UID:4294-1756497600-1756503000@www.stami-lausanne.ch
SUMMARY:Gemeinde - Gebetsabend
DESCRIPTION:
URL:https://www.stami-lausanne.ch/event/gemeinde-gebetsabend-63/
LOCATION:Echandens
END:VEVENT
BEGIN:VEVENT
DTSTART;TZID=Europe/Zurich:20250830T090000
DTEND;TZID=Europe/Zurich:20250830T120000
DTSTAMP:20260423T091249
CREATED:20250615T135530Z
LAST-MODIFIED:20250615T135530Z
UID:4299-1756544400-1756555200@www.stami-lausanne.ch
SUMMARY:Célébration ensemble Eglise VIVA
DESCRIPTION:et repas en commun
URL:https://www.stami-lausanne.ch/event/celebration-ensemble-eglise-viva/
LOCATION:Echandens
END:VEVENT
BEGIN:VEVENT
DTSTART;TZID=Europe/Zurich:20250831T092000
DTEND;TZID=Europe/Zurich:20250831T094000
DTSTAMP:20260423T091250
CREATED:20250609T074911Z
LAST-MODIFIED:20250702T150135Z
UID:4280-1756632000-1756633200@www.stami-lausanne.ch
SUMMARY:KEIN Gebet vor dem Gottesdienst
DESCRIPTION:
URL:https://www.stami-lausanne.ch/event/gebet-vor-dem-gottesdienst-95/
LOCATION:Echandens
END:VEVENT
BEGIN:VEVENT
DTSTART;TZID=Europe/Zurich:20250831T095000
DTEND;TZID=Europe/Zurich:20250831T120000
DTSTAMP:20260423T091250
CREATED:20250609T075211Z
LAST-MODIFIED:20250615T135316Z
UID:4282-1756633800-1756641600@www.stami-lausanne.ch
SUMMARY:Kein Gottesdienst
DESCRIPTION:
URL:https://www.stami-lausanne.ch/event/gottesdienst-mit-volker-monique-gass-6/
LOCATION:Echandens
END:VEVENT
END:VCALENDAR