BEGIN:VCALENDAR
VERSION:2.0
PRODID:-//Stadtmission Echandens - ECPv6.15.20//NONSGML v1.0//EN
CALSCALE:GREGORIAN
METHOD:PUBLISH
X-ORIGINAL-URL:https://www.stami-lausanne.ch
X-WR-CALDESC:Veranstaltungen für Stadtmission Echandens
REFRESH-INTERVAL;VALUE=DURATION:PT1H
X-Robots-Tag:noindex
X-PUBLISHED-TTL:PT1H
BEGIN:VTIMEZONE
TZID:Europe/Zurich
BEGIN:DAYLIGHT
TZOFFSETFROM:+0100
TZOFFSETTO:+0200
TZNAME:CEST
DTSTART:20240331T010000
END:DAYLIGHT
BEGIN:STANDARD
TZOFFSETFROM:+0200
TZOFFSETTO:+0100
TZNAME:CET
DTSTART:20241027T010000
END:STANDARD
BEGIN:DAYLIGHT
TZOFFSETFROM:+0100
TZOFFSETTO:+0200
TZNAME:CEST
DTSTART:20250330T010000
END:DAYLIGHT
BEGIN:STANDARD
TZOFFSETFROM:+0200
TZOFFSETTO:+0100
TZNAME:CET
DTSTART:20251026T010000
END:STANDARD
BEGIN:DAYLIGHT
TZOFFSETFROM:+0100
TZOFFSETTO:+0200
TZNAME:CEST
DTSTART:20260329T010000
END:DAYLIGHT
BEGIN:STANDARD
TZOFFSETFROM:+0200
TZOFFSETTO:+0100
TZNAME:CET
DTSTART:20261025T010000
END:STANDARD
END:VTIMEZONE
BEGIN:VEVENT
DTSTART;TZID=Europe/Zurich:20250301T093000
DTEND;TZID=Europe/Zurich:20250301T150000
DTSTAMP:20260425T213520
CREATED:20250122T165734Z
LAST-MODIFIED:20250122T165734Z
UID:3914-1740821400-1740841200@www.stami-lausanne.ch
SUMMARY:Formation Discipulat "Eglise Viva romand"
DESCRIPTION:
URL:https://www.stami-lausanne.ch/event/formation-discipulat-eglise-viva-romand/
LOCATION:Echandens
END:VEVENT
BEGIN:VEVENT
DTSTART;TZID=Europe/Zurich:20250302T092000
DTEND;TZID=Europe/Zurich:20250302T094000
DTSTAMP:20260425T213520
CREATED:20250204T150151Z
LAST-MODIFIED:20250204T150151Z
UID:3940-1740907200-1740908400@www.stami-lausanne.ch
SUMMARY:Gebet vor dem Gottesdienst
DESCRIPTION:offen für jedermann
URL:https://www.stami-lausanne.ch/event/gebet-vor-dem-gottesdienst-69/
LOCATION:Echandens
END:VEVENT
BEGIN:VEVENT
DTSTART;TZID=Europe/Zurich:20250302T095000
DTEND;TZID=Europe/Zurich:20250302T113000
DTSTAMP:20260425T213520
CREATED:20250204T144808Z
LAST-MODIFIED:20250204T145958Z
UID:3929-1740909000-1740915000@www.stami-lausanne.ch
SUMMARY:Gottesdienst mit Volker & Monique Gass
DESCRIPTION:+ Kinderprogramm
URL:https://www.stami-lausanne.ch/event/gottesdienst-mit-volker-monique-gass/
LOCATION:Echandens
END:VEVENT
BEGIN:VEVENT
DTSTART;TZID=Europe/Zurich:20250305T120000
DTEND;TZID=Europe/Zurich:20250305T160000
DTSTAMP:20260425T213520
CREATED:20250204T152642Z
LAST-MODIFIED:20250204T152642Z
UID:3957-1741176000-1741190400@www.stami-lausanne.ch
SUMMARY:Mittagessen für Senioren
DESCRIPTION:
URL:https://www.stami-lausanne.ch/event/mittagessen-fuer-senioren-4/
LOCATION:Echandens
END:VEVENT
BEGIN:VEVENT
DTSTART;TZID=Europe/Zurich:20250307T200000
DTEND;TZID=Europe/Zurich:20250307T213000
DTSTAMP:20260425T213520
CREATED:20250204T153903Z
LAST-MODIFIED:20250204T154020Z
UID:3976-1741377600-1741383000@www.stami-lausanne.ch
SUMMARY:Gemeinde Gebetsabend
DESCRIPTION:
URL:https://www.stami-lausanne.ch/event/gemeinde-gebetsabend-54/
END:VEVENT
BEGIN:VEVENT
DTSTART;TZID=Europe/Zurich:20250309T090000
DTEND;TZID=Europe/Zurich:20250309T094000
DTSTAMP:20260425T213520
CREATED:20250204T151437Z
LAST-MODIFIED:20250204T151452Z
UID:3953-1741510800-1741513200@www.stami-lausanne.ch
SUMMARY:Kaffee & Zopf
DESCRIPTION:
URL:https://www.stami-lausanne.ch/event/kaffee-zopf-5/
LOCATION:Echandens
END:VEVENT
BEGIN:VEVENT
DTSTART;TZID=Europe/Zurich:20250309T092000
DTEND;TZID=Europe/Zurich:20250309T094000
DTSTAMP:20260425T213520
CREATED:20250204T150226Z
LAST-MODIFIED:20250204T150241Z
UID:3942-1741512000-1741513200@www.stami-lausanne.ch
SUMMARY:Gebet vor dem Gottesdienst
DESCRIPTION:offen für jedermann
URL:https://www.stami-lausanne.ch/event/gebet-vor-dem-gottesdienst-70/
LOCATION:Echandens
END:VEVENT
BEGIN:VEVENT
DTSTART;TZID=Europe/Zurich:20250309T095000
DTEND;TZID=Europe/Zurich:20250309T113000
DTSTAMP:20260425T213520
CREATED:20250204T145241Z
LAST-MODIFIED:20250204T145241Z
UID:3931-1741513800-1741519800@www.stami-lausanne.ch
SUMMARY:Gottesdienst mit Volker & Monique Gass
DESCRIPTION:Mit Kinderpeogramm
URL:https://www.stami-lausanne.ch/event/gottesdienst-mit-volker-monique-gass-2/
LOCATION:Echandens
END:VEVENT
BEGIN:VEVENT
DTSTART;TZID=Europe/Zurich:20250312T090000
DTEND;TZID=Europe/Zurich:20250312T104500
DTSTAMP:20260425T213520
CREATED:20250204T152036Z
LAST-MODIFIED:20250204T152036Z
UID:3955-1741770000-1741776300@www.stami-lausanne.ch
SUMMARY:Frühstücktreffen mit Ruth Wallmeroth
DESCRIPTION:
URL:https://www.stami-lausanne.ch/event/fruehstuecktreffen-mit-ruth-wallmeroth/
LOCATION:Echandens
END:VEVENT
BEGIN:VEVENT
DTSTART;TZID=Europe/Zurich:20250314T090000
DTEND;TZID=Europe/Zurich:20250314T100000
DTSTAMP:20260425T213520
CREATED:20250204T153422Z
LAST-MODIFIED:20250204T153422Z
UID:3968-1741942800-1741946400@www.stami-lausanne.ch
SUMMARY:Atempause für Frauen
DESCRIPTION:
URL:https://www.stami-lausanne.ch/event/atempause-fuer-frauen-10/
LOCATION:Echandens
END:VEVENT
BEGIN:VEVENT
DTSTART;TZID=Europe/Zurich:20250314T200000
DTEND;TZID=Europe/Zurich:20250314T213000
DTSTAMP:20260425T213520
CREATED:20250204T154051Z
LAST-MODIFIED:20250204T154051Z
UID:3978-1741982400-1741987800@www.stami-lausanne.ch
SUMMARY:Gemeinde Gebetsabend
DESCRIPTION:
URL:https://www.stami-lausanne.ch/event/gemeinde-gebetsabend-56/
END:VEVENT
BEGIN:VEVENT
DTSTART;TZID=Europe/Zurich:20250316T092000
DTEND;TZID=Europe/Zurich:20250316T094000
DTSTAMP:20260425T213520
CREATED:20250204T150317Z
LAST-MODIFIED:20250204T150317Z
UID:3944-1742116800-1742118000@www.stami-lausanne.ch
SUMMARY:Gebet vor dem Gottesdienst
DESCRIPTION:offen für jedermann
URL:https://www.stami-lausanne.ch/event/gebet-vor-dem-gottesdienst-71/
LOCATION:Echandens
END:VEVENT
BEGIN:VEVENT
DTSTART;TZID=Europe/Zurich:20250316T095000
DTEND;TZID=Europe/Zurich:20250316T113000
DTSTAMP:20260425T213520
CREATED:20250204T145555Z
LAST-MODIFIED:20250204T145555Z
UID:3935-1742118600-1742124600@www.stami-lausanne.ch
SUMMARY:Missions Gottesdienst mit Michael Stauffer (Ostmission)
DESCRIPTION:Mit Kinderprogramm
URL:https://www.stami-lausanne.ch/event/missions-gottesdienst-mit-michael-stauffer-ostmission/
LOCATION:Echandens
END:VEVENT
BEGIN:VEVENT
DTSTART;TZID=Europe/Zurich:20250319T140000
DTEND;TZID=Europe/Zurich:20250319T160000
DTSTAMP:20260425T213520
CREATED:20250204T152827Z
LAST-MODIFIED:20250204T153111Z
UID:3961-1742392800-1742400000@www.stami-lausanne.ch
SUMMARY:Bibelnachmittag für Senioren
DESCRIPTION:
URL:https://www.stami-lausanne.ch/event/bibelnachmittag-fuer-senioren-5/
LOCATION:Echandens
END:VEVENT
BEGIN:VEVENT
DTSTART;TZID=Europe/Zurich:20250321T200000
DTEND;TZID=Europe/Zurich:20250321T213000
DTSTAMP:20260425T213520
CREATED:20250204T154137Z
LAST-MODIFIED:20250204T154137Z
UID:3980-1742587200-1742592600@www.stami-lausanne.ch
SUMMARY:Gemeinde Gebetsabend
DESCRIPTION:
URL:https://www.stami-lausanne.ch/event/gemeinde-gebetsabend-57/
END:VEVENT
BEGIN:VEVENT
DTSTART;TZID=Europe/Zurich:20250323T092000
DTEND;TZID=Europe/Zurich:20250323T094000
DTSTAMP:20260425T213520
CREATED:20250204T150402Z
LAST-MODIFIED:20250204T150402Z
UID:3946-1742721600-1742722800@www.stami-lausanne.ch
SUMMARY:Gebet vor dem Gottesdienst
DESCRIPTION:offen für jedermann
URL:https://www.stami-lausanne.ch/event/gebet-vor-dem-gottesdienst-72/
LOCATION:Echandens
END:VEVENT
BEGIN:VEVENT
DTSTART;TZID=Europe/Zurich:20250323T095000
DTEND;TZID=Europe/Zurich:20250323T113000
DTSTAMP:20260425T213520
CREATED:20250204T145406Z
LAST-MODIFIED:20250204T145406Z
UID:3933-1742723400-1742729400@www.stami-lausanne.ch
SUMMARY:Gottesdienst mit Volker & Monique Gass
DESCRIPTION:Mit Kinderprogramm
URL:https://www.stami-lausanne.ch/event/gottesdienst-mit-volker-monique-gass-3/
LOCATION:Echandens
END:VEVENT
BEGIN:VEVENT
DTSTART;TZID=Europe/Zurich:20250323T111500
DTEND;TZID=Europe/Zurich:20250323T123000
DTSTAMP:20260425T213520
CREATED:20250204T150735Z
LAST-MODIFIED:20250204T150735Z
UID:3950-1742728500-1742733000@www.stami-lausanne.ch
SUMMARY:Gemeindeversammlung nacg dem Gottesdienst
DESCRIPTION:
URL:https://www.stami-lausanne.ch/event/gemeindeversammlung-nacg-dem-gottesdienst/
LOCATION:Echandens
END:VEVENT
BEGIN:VEVENT
DTSTART;TZID=Europe/Zurich:20250328T090000
DTEND;TZID=Europe/Zurich:20250328T100000
DTSTAMP:20260425T213520
CREATED:20250204T153454Z
LAST-MODIFIED:20250204T153454Z
UID:3970-1743152400-1743156000@www.stami-lausanne.ch
SUMMARY:Atempause für Frauen
DESCRIPTION:
URL:https://www.stami-lausanne.ch/event/atempause-fuer-frauen-11/
LOCATION:Echandens
END:VEVENT
BEGIN:VEVENT
DTSTART;TZID=Europe/Zurich:20250328T200000
DTEND;TZID=Europe/Zurich:20250328T213000
DTSTAMP:20260425T213520
CREATED:20250204T154203Z
LAST-MODIFIED:20250204T154203Z
UID:3982-1743192000-1743197400@www.stami-lausanne.ch
SUMMARY:Gemeinde Gebetsabend
DESCRIPTION:
URL:https://www.stami-lausanne.ch/event/gemeinde-gebetsabend-58/
END:VEVENT
BEGIN:VEVENT
DTSTART;TZID=Europe/Zurich:20250330T092000
DTEND;TZID=Europe/Zurich:20250330T094000
DTSTAMP:20260425T213520
CREATED:20250204T150432Z
LAST-MODIFIED:20250204T150432Z
UID:3948-1743326400-1743327600@www.stami-lausanne.ch
SUMMARY:Gebet vor dem Gottesdienst
DESCRIPTION:offen für jedermann
URL:https://www.stami-lausanne.ch/event/gebet-vor-dem-gottesdienst-73/
LOCATION:Echandens
END:VEVENT
BEGIN:VEVENT
DTSTART;TZID=Europe/Zurich:20250330T095000
DTEND;TZID=Europe/Zurich:20250330T113000
DTSTAMP:20260425T213520
CREATED:20250204T145701Z
LAST-MODIFIED:20250204T145701Z
UID:3937-1743328200-1743334200@www.stami-lausanne.ch
SUMMARY:Gottesdienst mit Udo Jüdt
DESCRIPTION:Mit Kinderprogramm
URL:https://www.stami-lausanne.ch/event/gottesdienst-mit-udo-juedt-3/
LOCATION:Echandens
END:VEVENT
END:VCALENDAR