BEGIN:VCALENDAR
VERSION:2.0
PRODID:-//Stadtmission Echandens - ECPv6.15.20//NONSGML v1.0//EN
CALSCALE:GREGORIAN
METHOD:PUBLISH
X-WR-CALNAME:Stadtmission Echandens
X-ORIGINAL-URL:https://www.stami-lausanne.ch
X-WR-CALDESC:Veranstaltungen für Stadtmission Echandens
REFRESH-INTERVAL;VALUE=DURATION:PT1H
X-Robots-Tag:noindex
X-PUBLISHED-TTL:PT1H
BEGIN:VTIMEZONE
TZID:Europe/Zurich
BEGIN:DAYLIGHT
TZOFFSETFROM:+0100
TZOFFSETTO:+0200
TZNAME:CEST
DTSTART:20240331T010000
END:DAYLIGHT
BEGIN:STANDARD
TZOFFSETFROM:+0200
TZOFFSETTO:+0100
TZNAME:CET
DTSTART:20241027T010000
END:STANDARD
BEGIN:DAYLIGHT
TZOFFSETFROM:+0100
TZOFFSETTO:+0200
TZNAME:CEST
DTSTART:20250330T010000
END:DAYLIGHT
BEGIN:STANDARD
TZOFFSETFROM:+0200
TZOFFSETTO:+0100
TZNAME:CET
DTSTART:20251026T010000
END:STANDARD
BEGIN:DAYLIGHT
TZOFFSETFROM:+0100
TZOFFSETTO:+0200
TZNAME:CEST
DTSTART:20260329T010000
END:DAYLIGHT
BEGIN:STANDARD
TZOFFSETFROM:+0200
TZOFFSETTO:+0100
TZNAME:CET
DTSTART:20261025T010000
END:STANDARD
END:VTIMEZONE
BEGIN:VEVENT
DTSTART;TZID=Europe/Zurich:20251012T092000
DTEND;TZID=Europe/Zurich:20251012T094000
DTSTAMP:20260422T102804
CREATED:20250809T132207Z
LAST-MODIFIED:20250809T132207Z
UID:4382-1760260800-1760262000@www.stami-lausanne.ch
SUMMARY:Gebet vor dem Gottesdienst
DESCRIPTION:
URL:https://www.stami-lausanne.ch/event/gebet-vor-dem-gottesdienst-101/
LOCATION:Echandens
END:VEVENT
BEGIN:VEVENT
DTSTART;TZID=Europe/Zurich:20251012T095000
DTEND;TZID=Europe/Zurich:20251012T120000
DTSTAMP:20260422T102804
CREATED:20250809T085311Z
LAST-MODIFIED:20250809T085311Z
UID:4360-1760262600-1760270400@www.stami-lausanne.ch
SUMMARY:Gottesdienst mit Monique & Volker Gass
DESCRIPTION:
URL:https://www.stami-lausanne.ch/event/gottesdienst-mit-monique-volker-gass-18/
LOCATION:Echandens
END:VEVENT
END:VCALENDAR