BEGIN:VCALENDAR
VERSION:2.0
PRODID:-//Stadtmission Echandens - ECPv6.15.20//NONSGML v1.0//EN
CALSCALE:GREGORIAN
METHOD:PUBLISH
X-ORIGINAL-URL:https://www.stami-lausanne.ch
X-WR-CALDESC:Veranstaltungen für Stadtmission Echandens
REFRESH-INTERVAL;VALUE=DURATION:PT1H
X-Robots-Tag:noindex
X-PUBLISHED-TTL:PT1H
BEGIN:VTIMEZONE
TZID:Europe/Zurich
BEGIN:DAYLIGHT
TZOFFSETFROM:+0100
TZOFFSETTO:+0200
TZNAME:CEST
DTSTART:20240331T010000
END:DAYLIGHT
BEGIN:STANDARD
TZOFFSETFROM:+0200
TZOFFSETTO:+0100
TZNAME:CET
DTSTART:20241027T010000
END:STANDARD
BEGIN:DAYLIGHT
TZOFFSETFROM:+0100
TZOFFSETTO:+0200
TZNAME:CEST
DTSTART:20250330T010000
END:DAYLIGHT
BEGIN:STANDARD
TZOFFSETFROM:+0200
TZOFFSETTO:+0100
TZNAME:CET
DTSTART:20251026T010000
END:STANDARD
BEGIN:DAYLIGHT
TZOFFSETFROM:+0100
TZOFFSETTO:+0200
TZNAME:CEST
DTSTART:20260329T010000
END:DAYLIGHT
BEGIN:STANDARD
TZOFFSETFROM:+0200
TZOFFSETTO:+0100
TZNAME:CET
DTSTART:20261025T010000
END:STANDARD
END:VTIMEZONE
BEGIN:VEVENT
DTSTART;TZID=Europe/Zurich:20250928T084500
DTEND;TZID=Europe/Zurich:20250928T094000
DTSTAMP:20260423T091431
CREATED:20250809T133223Z
LAST-MODIFIED:20250809T133223Z
UID:4389-1759049100-1759052400@www.stami-lausanne.ch
SUMMARY:Kaffee & Zopf vor dem Gottesdienst
DESCRIPTION:
URL:https://www.stami-lausanne.ch/event/kaffee-zopf-vor-dem-gottesdienst-7/
END:VEVENT
BEGIN:VEVENT
DTSTART;TZID=Europe/Zurich:20250928T092000
DTEND;TZID=Europe/Zurich:20250928T094000
DTSTAMP:20260423T091431
CREATED:20250809T131957Z
LAST-MODIFIED:20250809T132109Z
UID:4378-1759051200-1759052400@www.stami-lausanne.ch
SUMMARY:Gebet vor dem Gottesdienst
DESCRIPTION:
URL:https://www.stami-lausanne.ch/event/gebet-vor-dem-gottesdienst-99/
LOCATION:Echandens
END:VEVENT
BEGIN:VEVENT
DTSTART;TZID=Europe/Zurich:20250928T095000
DTEND;TZID=Europe/Zurich:20250928T120000
DTSTAMP:20260423T091431
CREATED:20250809T085135Z
LAST-MODIFIED:20250809T085135Z
UID:4356-1759053000-1759060800@www.stami-lausanne.ch
SUMMARY:Gottesdienst mit Monique & Volker Gass
DESCRIPTION:
URL:https://www.stami-lausanne.ch/event/gottesdienst-mit-monique-volker-gass-16/
LOCATION:Echandens
END:VEVENT
END:VCALENDAR