BEGIN:VCALENDAR
VERSION:2.0
PRODID:-//Stadtmission Echandens - ECPv6.15.20//NONSGML v1.0//EN
CALSCALE:GREGORIAN
METHOD:PUBLISH
X-ORIGINAL-URL:https://www.stami-lausanne.ch
X-WR-CALDESC:Veranstaltungen für Stadtmission Echandens
REFRESH-INTERVAL;VALUE=DURATION:PT1H
X-Robots-Tag:noindex
X-PUBLISHED-TTL:PT1H
BEGIN:VTIMEZONE
TZID:Europe/Zurich
BEGIN:DAYLIGHT
TZOFFSETFROM:+0100
TZOFFSETTO:+0200
TZNAME:CEST
DTSTART:20240331T010000
END:DAYLIGHT
BEGIN:STANDARD
TZOFFSETFROM:+0200
TZOFFSETTO:+0100
TZNAME:CET
DTSTART:20241027T010000
END:STANDARD
BEGIN:DAYLIGHT
TZOFFSETFROM:+0100
TZOFFSETTO:+0200
TZNAME:CEST
DTSTART:20250330T010000
END:DAYLIGHT
BEGIN:STANDARD
TZOFFSETFROM:+0200
TZOFFSETTO:+0100
TZNAME:CET
DTSTART:20251026T010000
END:STANDARD
BEGIN:DAYLIGHT
TZOFFSETFROM:+0100
TZOFFSETTO:+0200
TZNAME:CEST
DTSTART:20260329T010000
END:DAYLIGHT
BEGIN:STANDARD
TZOFFSETFROM:+0200
TZOFFSETTO:+0100
TZNAME:CET
DTSTART:20261025T010000
END:STANDARD
END:VTIMEZONE
BEGIN:VEVENT
DTSTART;TZID=Europe/Zurich:20250803T092000
DTEND;TZID=Europe/Zurich:20250803T094000
DTSTAMP:20260423T105725
CREATED:20250609T074703Z
LAST-MODIFIED:20250609T074703Z
UID:4272-1754212800-1754214000@www.stami-lausanne.ch
SUMMARY:Gebet vor dem Gottesdienst
DESCRIPTION:
URL:https://www.stami-lausanne.ch/event/gebet-vor-dem-gottesdienst-91/
LOCATION:Echandens
END:VEVENT
BEGIN:VEVENT
DTSTART;TZID=Europe/Zurich:20250803T095000
DTEND;TZID=Europe/Zurich:20250803T120000
DTSTAMP:20260423T105725
CREATED:20250609T073935Z
LAST-MODIFIED:20250609T073935Z
UID:4256-1754214600-1754222400@www.stami-lausanne.ch
SUMMARY:Gottesdienst mit Volker & Monique Gass
DESCRIPTION:
URL:https://www.stami-lausanne.ch/event/gottesdienst-mit-volker-monique-gass-4/
LOCATION:Echandens
END:VEVENT
END:VCALENDAR