BEGIN:VCALENDAR
VERSION:2.0
PRODID:-//Stadtmission Echandens - ECPv6.15.20//NONSGML v1.0//EN
CALSCALE:GREGORIAN
METHOD:PUBLISH
X-ORIGINAL-URL:https://www.stami-lausanne.ch
X-WR-CALDESC:Veranstaltungen für Stadtmission Echandens
REFRESH-INTERVAL;VALUE=DURATION:PT1H
X-Robots-Tag:noindex
X-PUBLISHED-TTL:PT1H
BEGIN:VTIMEZONE
TZID:Europe/Zurich
BEGIN:DAYLIGHT
TZOFFSETFROM:+0100
TZOFFSETTO:+0200
TZNAME:CEST
DTSTART:20240331T010000
END:DAYLIGHT
BEGIN:STANDARD
TZOFFSETFROM:+0200
TZOFFSETTO:+0100
TZNAME:CET
DTSTART:20241027T010000
END:STANDARD
BEGIN:DAYLIGHT
TZOFFSETFROM:+0100
TZOFFSETTO:+0200
TZNAME:CEST
DTSTART:20250330T010000
END:DAYLIGHT
BEGIN:STANDARD
TZOFFSETFROM:+0200
TZOFFSETTO:+0100
TZNAME:CET
DTSTART:20251026T010000
END:STANDARD
BEGIN:DAYLIGHT
TZOFFSETFROM:+0100
TZOFFSETTO:+0200
TZNAME:CEST
DTSTART:20260329T010000
END:DAYLIGHT
BEGIN:STANDARD
TZOFFSETFROM:+0200
TZOFFSETTO:+0100
TZNAME:CET
DTSTART:20261025T010000
END:STANDARD
END:VTIMEZONE
BEGIN:VEVENT
DTSTART;TZID=Europe/Zurich:20250601T092000
DTEND;TZID=Europe/Zurich:20250601T094000
DTSTAMP:20260425T184825
CREATED:20250421T134816Z
LAST-MODIFIED:20250421T134816Z
UID:4158-1748769600-1748770800@www.stami-lausanne.ch
SUMMARY:Gebet vor dem Gottesdienst
DESCRIPTION:
URL:https://www.stami-lausanne.ch/event/gebet-vor-dem-gottesdienst-83/
LOCATION:Echandens
END:VEVENT
BEGIN:VEVENT
DTSTART;TZID=Europe/Zurich:20250601T095000
DTEND;TZID=Europe/Zurich:20250601T113000
DTSTAMP:20260425T184825
CREATED:20250421T142014Z
LAST-MODIFIED:20250421T142014Z
UID:4188-1748771400-1748777400@www.stami-lausanne.ch
SUMMARY:Gottesdienst mit Monique & Volker Gass
DESCRIPTION:+ Kids Treff
URL:https://www.stami-lausanne.ch/event/gottesdienst-mit-monique-volker-gass-14/
LOCATION:Echandens
END:VEVENT
BEGIN:VEVENT
DTSTART;TZID=Europe/Zurich:20250601T120000
DTEND;TZID=Europe/Zurich:20250601T163000
DTSTAMP:20260425T184825
CREATED:20250421T140802Z
LAST-MODIFIED:20250421T140802Z
UID:4183-1748779200-1748795400@www.stami-lausanne.ch
SUMMARY:Frohes Beisammensein im Garten von Burkhardt's in Bussigny
DESCRIPTION:Mit Buffet Canadien
URL:https://www.stami-lausanne.ch/event/frohes-beisammensein-im-garten-von-burkhardts-in-bussigny/
LOCATION:Bussigny\, Ch. de la Colline 4\, 1030 Bussigny\, 1030\, Suisse
END:VEVENT
END:VCALENDAR